BEGIN:VCALENDAR
VERSION:2.0
PRODID:-//Tinker Class Owners Association (TCOA) - ECPv6.15.20//NONSGML v1.0//EN
CALSCALE:GREGORIAN
METHOD:PUBLISH
X-WR-CALNAME:Tinker Class Owners Association (TCOA)
X-ORIGINAL-URL:https://tinkerowners.uk
X-WR-CALDESC:Events for Tinker Class Owners Association (TCOA)
REFRESH-INTERVAL;VALUE=DURATION:PT1H
X-Robots-Tag:noindex
X-PUBLISHED-TTL:PT1H
BEGIN:VTIMEZONE
TZID:Europe/London
BEGIN:DAYLIGHT
TZOFFSETFROM:+0000
TZOFFSETTO:+0100
TZNAME:BST
DTSTART:20240331T010000
END:DAYLIGHT
BEGIN:STANDARD
TZOFFSETFROM:+0100
TZOFFSETTO:+0000
TZNAME:GMT
DTSTART:20241027T010000
END:STANDARD
BEGIN:DAYLIGHT
TZOFFSETFROM:+0000
TZOFFSETTO:+0100
TZNAME:BST
DTSTART:20250330T010000
END:DAYLIGHT
BEGIN:STANDARD
TZOFFSETFROM:+0100
TZOFFSETTO:+0000
TZNAME:GMT
DTSTART:20251026T010000
END:STANDARD
BEGIN:DAYLIGHT
TZOFFSETFROM:+0000
TZOFFSETTO:+0100
TZNAME:BST
DTSTART:20260329T010000
END:DAYLIGHT
BEGIN:STANDARD
TZOFFSETFROM:+0100
TZOFFSETTO:+0000
TZNAME:GMT
DTSTART:20261025T010000
END:STANDARD
END:VTIMEZONE
BEGIN:VEVENT
DTSTART;TZID=Europe/London:20250703T000000
DTEND;TZID=Europe/London:20250709T235959
DTSTAMP:20260422T193037
CREATED:20250110T174959Z
LAST-MODIFIED:20250110T174959Z
UID:527-1751500800-1752105599@tinkerowners.uk
SUMMARY:Rutland
DESCRIPTION:
URL:https://tinkerowners.uk/event/rutland/
LOCATION:Rutland Water\, Gibbet Lane\, Edith Weston\, Rutland\, LE15 8HJ\, United Kingdom
ORGANIZER;CN="Perry":MAILTO:rallysecretary@tinkerowners.org.uk
END:VEVENT
BEGIN:VEVENT
DTSTART;TZID=Europe/London:20250516T000000
DTEND;TZID=Europe/London:20250519T235959
DTSTAMP:20260422T193037
CREATED:20250110T173331Z
LAST-MODIFIED:20250110T173728Z
UID:506-1747353600-1747699199@tinkerowners.uk
SUMMARY:Ullswater
DESCRIPTION:A new venue for a Tinker Meet (which we know some of you have already visited and highly recommend) on the shores of Ullswater in the Lake District. Launching and recovery of boats is available direct from the campsite. For those not camping\, parking and launching is available for a fee\, but also needs to be booked in advance. \nDetails of the site are available at its website which can be viewed by following this link: Waterside Campsite \nIt is proposed to have 4 full rally days\, Friday 16 May to Monday 19 May 2025 inclusive. Ullswater allows the use of engines so motor cruises a well as sailing cruises are feasible. There are a selection of venues around Ullswater that provide suitable cruise destinations for a day out. We also propose to hold some races using the normal format and free sailing will be available as required. When a safety boat is required we will have to take it in turns it operate and provide the necessary cover. \nThere are some Glamping Pods and a cottage for rent at the site\, if anyone is interested\, please let us know and we will make further enquires. \nThere are B & B and hotels close by for those not wishing to camp.
URL:https://tinkerowners.uk/event/ullswater/
LOCATION:Waterside Farm Camping\, Howtown Road\, Pooley Bridge\, Cumbria\, CA10 2NA\, United Kingdom
ORGANIZER;CN="Perry":MAILTO:rallysecretary@tinkerowners.org.uk
END:VEVENT
BEGIN:VEVENT
DTSTART;TZID=Europe/London:20250412T000000
DTEND;TZID=Europe/London:20250415T235959
DTSTAMP:20260422T193037
CREATED:20250110T174923Z
LAST-MODIFIED:20250110T175314Z
UID:515-1744416000-1744761599@tinkerowners.uk
SUMMARY:Cotswold Sailing Club
DESCRIPTION:
URL:https://tinkerowners.uk/event/cotswold-sailing-club/
LOCATION:Cotswold Sailing Club\, Lake 9\, Cerney Wick Lane\, Cotswold Water Park\, Gloucestershire\, GL7 5QJ\, United Kingdom
ORGANIZER;CN="Perry":MAILTO:rallysecretary@tinkerowners.org.uk
END:VEVENT
END:VCALENDAR