BEGIN:VCALENDAR
VERSION:2.0
PRODID:-//Tinker Class Owners Association (TCOA) - ECPv6.15.20//NONSGML v1.0//EN
CALSCALE:GREGORIAN
METHOD:PUBLISH
X-WR-CALNAME:Tinker Class Owners Association (TCOA)
X-ORIGINAL-URL:https://tinkerowners.uk
X-WR-CALDESC:Events for Tinker Class Owners Association (TCOA)
REFRESH-INTERVAL;VALUE=DURATION:PT1H
X-Robots-Tag:noindex
X-PUBLISHED-TTL:PT1H
BEGIN:VTIMEZONE
TZID:Europe/London
BEGIN:DAYLIGHT
TZOFFSETFROM:+0000
TZOFFSETTO:+0100
TZNAME:BST
DTSTART:20240331T010000
END:DAYLIGHT
BEGIN:STANDARD
TZOFFSETFROM:+0100
TZOFFSETTO:+0000
TZNAME:GMT
DTSTART:20241027T010000
END:STANDARD
BEGIN:DAYLIGHT
TZOFFSETFROM:+0000
TZOFFSETTO:+0100
TZNAME:BST
DTSTART:20250330T010000
END:DAYLIGHT
BEGIN:STANDARD
TZOFFSETFROM:+0100
TZOFFSETTO:+0000
TZNAME:GMT
DTSTART:20251026T010000
END:STANDARD
BEGIN:DAYLIGHT
TZOFFSETFROM:+0000
TZOFFSETTO:+0100
TZNAME:BST
DTSTART:20260329T010000
END:DAYLIGHT
BEGIN:STANDARD
TZOFFSETFROM:+0100
TZOFFSETTO:+0000
TZNAME:GMT
DTSTART:20261025T010000
END:STANDARD
BEGIN:DAYLIGHT
TZOFFSETFROM:+0000
TZOFFSETTO:+0100
TZNAME:BST
DTSTART:20270328T010000
END:DAYLIGHT
BEGIN:STANDARD
TZOFFSETFROM:+0100
TZOFFSETTO:+0000
TZNAME:GMT
DTSTART:20271031T010000
END:STANDARD
END:VTIMEZONE
BEGIN:VEVENT
DTSTART;TZID=Europe/London:20250913T000000
DTEND;TZID=Europe/London:20250915T235959
DTSTAMP:20260422T164301
CREATED:20250110T175113Z
LAST-MODIFIED:20250830T185412Z
UID:531-1757721600-1757980799@tinkerowners.uk
SUMMARY:Bassenthwaite
DESCRIPTION:The venue for this rally is Bassenthwaite Sailing Club (https://www.bassenthwaite-sc.org.uk/) which is located at the western end of Lake Bassenthwaite in Cumbria (CA13 9YD)\, not far from the village of Bassenthwaite. The Club is situated on the shores of the lake and has a panoramic view across the water towards Skiddaw. The facilities offered by the club are excellent. \nAs with all our extended rallies this year you do not have to commit to attending for the full three days. Saturday and Sunday will involve the usual racing; members are also welcome to just free sail and not race if they wish on these days with the advantage of safety boat cover. \nMonday will involve free sailing and potentially a sailing cruise up and down the lake depending on conditions. \nIf you haven’t received a personalised invite then please contact the rally secretaries using the form below.
URL:https://tinkerowners.uk/event/bassenthwaite/
LOCATION:Bassenthwaite\, Dubwath\, Cockermouth\, Cumbria\, CA13 9YD\, United Kingdom
END:VEVENT
BEGIN:VEVENT
DTSTART;TZID=Europe/London:20251011T000000
DTEND;TZID=Europe/London:20251013T235959
DTSTAMP:20260422T164301
CREATED:20250110T175154Z
LAST-MODIFIED:20251001T183248Z
UID:533-1760140800-1760399999@tinkerowners.uk
SUMMARY:Swarkestone
DESCRIPTION:Swarkestone is the traditional end of season event and usually coincides with a group meal on one of the evening. Racing at the lake over the weekend is always fun with courses set along the lake using the multitude of marker bouys available. \n \nTo book your space please complete the form below
URL:https://tinkerowners.uk/event/swarkestone/
LOCATION:Swarkestone\, Swarkestone Lakes\, Derby\, Derbyshire\, DE73 7HW\, United Kingdom
ORGANIZER;CN="Perry":MAILTO:rallysecretary@tinkerowners.org.uk
END:VEVENT
BEGIN:VEVENT
DTSTART;TZID=Europe/London:20260416T000000
DTEND;TZID=Europe/London:20260422T235959
DTSTAMP:20260422T164301
CREATED:20251114T153637Z
LAST-MODIFIED:20251114T153637Z
UID:1318-1776297600-1776902399@tinkerowners.uk
SUMMARY:Cotswold Meet
DESCRIPTION:Our first meet of the year will again be at Cotswold Sailing Club \nArrivals from 16th with departures by 12 noon on the 22nd \nMore details to follow
URL:https://tinkerowners.uk/event/cotswold-meet/
LOCATION:Cotswold Sailing Club\, Lake 9\, Cerney Wick Lane\, Cotswold Water Park\, Gloucestershire\, GL7 5QJ\, United Kingdom
ORGANIZER;CN="Perry":MAILTO:rallysecretary@tinkerowners.org.uk
END:VEVENT
BEGIN:VEVENT
DTSTART;TZID=Europe/London:20260521T000000
DTEND;TZID=Europe/London:20260528T235959
DTSTAMP:20260422T164301
CREATED:20251130T173807Z
LAST-MODIFIED:20251130T173834Z
UID:1335-1779321600-1780012799@tinkerowners.uk
SUMMARY:Annecy
DESCRIPTION:
URL:https://tinkerowners.uk/event/annecy/
ORGANIZER;CN="Perry":MAILTO:rallysecretary@tinkerowners.org.uk
END:VEVENT
BEGIN:VEVENT
DTSTART;TZID=Europe/London:20260703T000000
DTEND;TZID=Europe/London:20260708T235959
DTSTAMP:20260422T164301
CREATED:20251130T172936Z
LAST-MODIFIED:20251130T172936Z
UID:1322-1783036800-1783555199@tinkerowners.uk
SUMMARY:Rutland
DESCRIPTION:
URL:https://tinkerowners.uk/event/rutland-2/
LOCATION:Rutland Water\, Gibbet Lane\, Edith Weston\, Rutland\, LE15 8HJ\, United Kingdom
ORGANIZER;CN="Perry":MAILTO:rallysecretary@tinkerowners.org.uk
END:VEVENT
BEGIN:VEVENT
DTSTART;TZID=Europe/London:20260815T000000
DTEND;TZID=Europe/London:20260818T235959
DTSTAMP:20260422T164301
CREATED:20251130T173609Z
LAST-MODIFIED:20251130T173609Z
UID:1333-1786752000-1787097599@tinkerowners.uk
SUMMARY:Chichester
DESCRIPTION:
URL:https://tinkerowners.uk/event/chichester-3/
LOCATION:Chichester\, Chichester Marina Birdham\, Chichester\, West Sussex\, PO20 7EJ\, United Kingdom
ORGANIZER;CN="Perry":MAILTO:rallysecretary@tinkerowners.org.uk
END:VEVENT
BEGIN:VEVENT
DTSTART;TZID=Europe/London:20260815T160000
DTEND;TZID=Europe/London:20260815T173000
DTSTAMP:20260422T164301
CREATED:20251130T173044Z
LAST-MODIFIED:20251130T173255Z
UID:1324-1786809600-1786815000@tinkerowners.uk
SUMMARY:AGM - Chichester
DESCRIPTION:
URL:https://tinkerowners.uk/event/chichester-2/
LOCATION:TBA
ORGANIZER;CN="Perry":MAILTO:rallysecretary@tinkerowners.org.uk
END:VEVENT
BEGIN:VEVENT
DTSTART;TZID=Europe/London:20260912T000000
DTEND;TZID=Europe/London:20260914T235959
DTSTAMP:20260422T164301
CREATED:20251130T173421Z
LAST-MODIFIED:20251130T173421Z
UID:1329-1789171200-1789430399@tinkerowners.uk
SUMMARY:Bassenthwaite
DESCRIPTION:Please note these dates are tentative
URL:https://tinkerowners.uk/event/bassenthwaite-2/
LOCATION:Bassenthwaite\, Dubwath\, Cockermouth\, Cumbria\, CA13 9YD\, United Kingdom
ORGANIZER;CN="Perry":MAILTO:rallysecretary@tinkerowners.org.uk
END:VEVENT
BEGIN:VEVENT
DTSTART;TZID=Europe/London:20261009T000000
DTEND;TZID=Europe/London:20261012T235959
DTSTAMP:20260422T164301
CREATED:20251130T173510Z
LAST-MODIFIED:20251130T173510Z
UID:1331-1791504000-1791849599@tinkerowners.uk
SUMMARY:Swarkestone
DESCRIPTION:
URL:https://tinkerowners.uk/event/swarkestone-2/
LOCATION:Swarkestone\, Swarkestone Lakes\, Derby\, Derbyshire\, DE73 7HW\, United Kingdom
ORGANIZER;CN="Perry":MAILTO:rallysecretary@tinkerowners.org.uk
END:VEVENT
END:VCALENDAR