BEGIN:VCALENDAR
VERSION:2.0
PRODID:-//Tinker Class Owners Association (TCOA) - ECPv6.15.20//NONSGML v1.0//EN
CALSCALE:GREGORIAN
METHOD:PUBLISH
X-ORIGINAL-URL:https://tinkerowners.uk
X-WR-CALDESC:Events for Tinker Class Owners Association (TCOA)
REFRESH-INTERVAL;VALUE=DURATION:PT1H
X-Robots-Tag:noindex
X-PUBLISHED-TTL:PT1H
BEGIN:VTIMEZONE
TZID:Europe/London
BEGIN:DAYLIGHT
TZOFFSETFROM:+0000
TZOFFSETTO:+0100
TZNAME:BST
DTSTART:20240331T010000
END:DAYLIGHT
BEGIN:STANDARD
TZOFFSETFROM:+0100
TZOFFSETTO:+0000
TZNAME:GMT
DTSTART:20241027T010000
END:STANDARD
BEGIN:DAYLIGHT
TZOFFSETFROM:+0000
TZOFFSETTO:+0100
TZNAME:BST
DTSTART:20250330T010000
END:DAYLIGHT
BEGIN:STANDARD
TZOFFSETFROM:+0100
TZOFFSETTO:+0000
TZNAME:GMT
DTSTART:20251026T010000
END:STANDARD
BEGIN:DAYLIGHT
TZOFFSETFROM:+0000
TZOFFSETTO:+0100
TZNAME:BST
DTSTART:20260329T010000
END:DAYLIGHT
BEGIN:STANDARD
TZOFFSETFROM:+0100
TZOFFSETTO:+0000
TZNAME:GMT
DTSTART:20261025T010000
END:STANDARD
END:VTIMEZONE
BEGIN:VEVENT
DTSTART;TZID=Europe/London:20250913T000000
DTEND;TZID=Europe/London:20250915T235959
DTSTAMP:20260422T153214
CREATED:20250110T175113Z
LAST-MODIFIED:20250830T185412Z
UID:531-1757721600-1757980799@tinkerowners.uk
SUMMARY:Bassenthwaite
DESCRIPTION:The venue for this rally is Bassenthwaite Sailing Club (https://www.bassenthwaite-sc.org.uk/) which is located at the western end of Lake Bassenthwaite in Cumbria (CA13 9YD)\, not far from the village of Bassenthwaite. The Club is situated on the shores of the lake and has a panoramic view across the water towards Skiddaw. The facilities offered by the club are excellent. \nAs with all our extended rallies this year you do not have to commit to attending for the full three days. Saturday and Sunday will involve the usual racing; members are also welcome to just free sail and not race if they wish on these days with the advantage of safety boat cover. \nMonday will involve free sailing and potentially a sailing cruise up and down the lake depending on conditions. \nIf you haven’t received a personalised invite then please contact the rally secretaries using the form below.
URL:https://tinkerowners.uk/event/bassenthwaite/
LOCATION:Bassenthwaite\, Dubwath\, Cockermouth\, Cumbria\, CA13 9YD\, United Kingdom
END:VEVENT
END:VCALENDAR